BEGIN:VCALENDAR
VERSION:2.0
PRODID:-//Beaver Dam Baptist Church - ECPv6.15.20//NONSGML v1.0//EN
CALSCALE:GREGORIAN
METHOD:PUBLISH
X-WR-CALNAME:Beaver Dam Baptist Church
X-ORIGINAL-URL:https://beaverdambaptist.church
X-WR-CALDESC:Events for Beaver Dam Baptist Church
REFRESH-INTERVAL;VALUE=DURATION:PT1H
X-Robots-Tag:noindex
X-PUBLISHED-TTL:PT1H
BEGIN:VTIMEZONE
TZID:UTC
BEGIN:STANDARD
TZOFFSETFROM:+0000
TZOFFSETTO:+0000
TZNAME:UTC
DTSTART:20210101T000000
END:STANDARD
END:VTIMEZONE
BEGIN:VEVENT
DTSTART;TZID=UTC:20230301T080000
DTEND;TZID=UTC:20230301T170000
DTSTAMP:20260419T165346
CREATED:20230202T223349Z
LAST-MODIFIED:20230202T223349Z
UID:18209-1677657600-1677690000@beaverdambaptist.church
SUMMARY:Test Event
DESCRIPTION:this is a test to see if this feature is published
URL:https://beaverdambaptist.church/event/test-event/
ATTACH;FMTTYPE=image/jpeg:https://beaverdambaptist.church/wp-content/uploads/2022/06/282062974_5612156398803222_292148955413169205_n.jpg
END:VEVENT
BEGIN:VEVENT
DTSTART;TZID=UTC:20220717T170000
DTEND;TZID=UTC:20220721T200000
DTSTAMP:20260419T165346
CREATED:20220608T182802Z
LAST-MODIFIED:20220704T133352Z
UID:17935-1658077200-1658433600@beaverdambaptist.church
SUMMARY:Beaver Dam Baptist Church Vacation Bible School 2022
DESCRIPTION:Join us this Summer at Beaver Dam Baptist Church for our Annual Vacation Bible School\, all week from 5 to 8 PM.
URL:https://beaverdambaptist.church/event/beaver-dam-baptist-church-vacation-bible-school-2022/
ATTACH;FMTTYPE=image/jpeg:https://beaverdambaptist.church/wp-content/uploads/2022/06/282062974_5612156398803222_292148955413169205_n.jpg
END:VEVENT
BEGIN:VEVENT
DTSTART;TZID=UTC:20220515T110000
DTEND;TZID=UTC:20220515T113000
DTSTAMP:20260419T165346
CREATED:20220330T031626Z
LAST-MODIFIED:20220330T034834Z
UID:17559-1652612400-1652614200@beaverdambaptist.church
SUMMARY:Church Service
DESCRIPTION:Join us for our Sunday Service at Beaver Dam Baptist Church on Sunday t 11am.
URL:https://beaverdambaptist.church/event/church-service/
ATTACH;FMTTYPE=image/jpeg:https://beaverdambaptist.church/wp-content/uploads/2022/03/Side-and-Front-9-17-2017-MSFB-3.jpg
END:VEVENT
BEGIN:VEVENT
DTSTART;TZID=UTC:20220508T110000
DTEND;TZID=UTC:20220508T120000
DTSTAMP:20260419T165346
CREATED:20220330T032513Z
LAST-MODIFIED:20220330T034808Z
UID:17562-1652007600-1652011200@beaverdambaptist.church
SUMMARY:Church Service
DESCRIPTION:Join us for our Sunday Service at Beaver Dam Baptist Church on Sunday at 11am.
URL:https://beaverdambaptist.church/event/church-service-2/
ATTACH;FMTTYPE=image/jpeg:https://beaverdambaptist.church/wp-content/uploads/2022/03/Beaver-Dam-Sign-7-9-17-2017-MSFB.jpg
END:VEVENT
END:VCALENDAR